BEGIN:VCALENDAR
VERSION:2.0
PRODID:-//hacksw/handcal//NONSGML v1.0//EN
CALSCALE:GREGORIAN
BEGIN:VEVENT
ORGANIZER;CN=GRAIL, Inc.:MAILTO:no-reply@gcs-web.com
DTEND:
UID:b374434e-98d8-4435-85cd-b620c66386aa
DTSTAMP:1777044331
LOCATION:https://grail-q1-financial-results-2026.open-exchange.net/registration
DESCRIPTION:Event Details https://investors.grail.com/events/event-details/q1-2026-financial-results\n\nWebcast: https://grail-q1-financial-results-2026.open-exchange.net/registration
URL;VALUE=URI:https://grail-q1-financial-results-2026.open-exchange.net/registration
SUMMARY:GRAIL, Inc. - Q1 2026 Financial Results
DTSTART:20260505T203000Z
END:VEVENT
END:VCALENDAR